BEGIN:VCALENDAR
VERSION:2.0
PRODID:-//Plone.org//NONSGML plone.app.event//EN
X-WR-TIMEZONE:Europe/Berlin
BEGIN:VEVENT
SUMMARY:Macht und Hierarchien am Beispiel von Gärten im islamischen Indie
 n
DTSTART;TZID=Europe/Berlin:20241111T181500
DTEND;TZID=Europe/Berlin:20241111T194500
DTSTAMP:20260425T173236Z
UID:ff465715d88d4956892d63d770409448@www.uni-marburg.de
ATTENDEE;CN="Sara Keller (Max-Weber-Kolleg, Erfurt)";ROLE=REQ-PARTICIPANT:
 Sara Keller (Max-Weber-Kolleg, Erfurt)
CREATED:20240926T100121Z
DESCRIPTION:https://www.uni-marburg.de/de/mcaw/aktuelles/termine/ringvorle
 sung-2024/macht-und-hierarchien-am-beispiel-von-gaerten-im-islamischen-ind
 ien\n
LAST-MODIFIED:20240927T173429Z
LOCATION:Vortragsraum der UB B008 (00/2080) Deutschhausstr. 9
URL:https://www.uni-marburg.de/de/mcaw/aktuelles/termine/ringvorlesung-202
 4/macht-und-hierarchien-am-beispiel-von-gaerten-im-islamischen-indien
END:VEVENT
BEGIN:VTIMEZONE
TZID:Europe/Berlin
X-LIC-LOCATION:Europe/Berlin
BEGIN:STANDARD
DTSTART:20241027T020000
TZNAME:CET
TZOFFSETFROM:+0200
TZOFFSETTO:+0100
END:STANDARD
END:VTIMEZONE
END:VCALENDAR
