BEGIN:VCALENDAR
VERSION:2.0
PRODID:-//Plone.org//NONSGML plone.app.event//EN
X-WR-TIMEZONE:Europe/Berlin
BEGIN:VEVENT
SUMMARY:Vorstellungen des Paradieses im Judentum und Islam durch das Prism
 a der althebräischen und arabischen Sprachen
DTSTART;TZID=Europe/Berlin:20241118T181500
DTEND;TZID=Europe/Berlin:20241118T194500
DTSTAMP:20260425T153947Z
UID:457b5d7e09f648229700cfbb659fcfa4@www.uni-marburg.de
ATTENDEE;CN="Vera Tsukanova (Semitistik)";ROLE=REQ-PARTICIPANT:Vera Tsukan
 ova (Semitistik)
CREATED:20240926T100416Z
DESCRIPTION:https://www.uni-marburg.de/de/mcaw/aktuelles/termine/ringvorle
 sung-2024/vorstellungen-des-paradieses-im-judentum-und-islam-durch-das-pri
 sma-der-althebraeischen-und-arabischen-sprachen\n
LAST-MODIFIED:20240927T173426Z
LOCATION:Vortragsraum der UB B008 (00/2080) Deutschhausstr. 9
URL:https://www.uni-marburg.de/de/mcaw/aktuelles/termine/ringvorlesung-202
 4/vorstellungen-des-paradieses-im-judentum-und-islam-durch-das-prisma-der-
 althebraeischen-und-arabischen-sprachen
END:VEVENT
BEGIN:VTIMEZONE
TZID:Europe/Berlin
X-LIC-LOCATION:Europe/Berlin
BEGIN:STANDARD
DTSTART:20241027T020000
TZNAME:CET
TZOFFSETFROM:+0200
TZOFFSETTO:+0100
END:STANDARD
END:VTIMEZONE
END:VCALENDAR
