BEGIN:VCALENDAR
VERSION:2.0
PRODID:-//Plone.org//NONSGML plone.app.event//EN
X-WR-TIMEZONE:Europe/Berlin
BEGIN:VEVENT
SUMMARY:Studium Generale "Vernetzte Kultur"
DTSTART;TZID=Europe/Berlin:20231025T181500
DTEND;TZID=Europe/Berlin:20231025T194500
DTSTAMP:20260420T165302Z
UID:dfd672b579f04a23b5d0bd241f73f75f@www.uni-marburg.de
RRULE:FREQ=WEEKLY;COUNT=16
EXDATE;TZID=Europe/Berlin:20231213T181500,20231220T181500,20231227T181500,
 20240103T181500
CREATED:20231020T064906Z
DESCRIPTION:https://www.uni-marburg.de/de/mcdci/aktuelles/termine/2023-1/s
 tudium-generale-vernetzte-kultur\nVortrag im Rahmen des Studium Generale z
 um Thema "Vernetzte Kultur" im Wintersemester 2023/24.
LAST-MODIFIED:20240313T085602Z
LOCATION:Vortragsraum der Universitätsbibliothek\, Deutschhausstraße 9
URL:https://www.uni-marburg.de/de/mcdci/aktuelles/termine/2023-1/studium-g
 enerale-vernetzte-kultur
END:VEVENT
BEGIN:VTIMEZONE
TZID:Europe/Berlin
X-LIC-LOCATION:Europe/Berlin
BEGIN:DAYLIGHT
DTSTART:20230326T030000
TZNAME:CEST
TZOFFSETFROM:+0100
TZOFFSETTO:+0200
END:DAYLIGHT
END:VTIMEZONE
END:VCALENDAR
