BEGIN:VCALENDAR
VERSION:2.0
PRODID:-//Plone.org//NONSGML plone.app.event//EN
X-WR-TIMEZONE:Europe/Berlin
BEGIN:VEVENT
SUMMARY:Informationsveranstaltung zum MA Cultural Data Studies
DTSTART;TZID=Europe/Berlin:20230704T161500
DTEND;TZID=Europe/Berlin:20230704T174500
DTSTAMP:20260422T181859Z
UID:cf18b7876a744fe88b81bfcb826448a4@www.uni-marburg.de
CREATED:20230525T073821Z
DESCRIPTION:https://www.uni-marburg.de/de/mcdci/aktuelles/termine/2023-1/v
 orstellung-des-ma-cultural-data-studies\n
LAST-MODIFIED:20240313T085009Z
LOCATION:Hörsaalgebäude (Biegenstraße 14)\, Raum +2/0090
URL:https://www.uni-marburg.de/de/mcdci/aktuelles/termine/2023-1/vorstellu
 ng-des-ma-cultural-data-studies
END:VEVENT
BEGIN:VTIMEZONE
TZID:Europe/Berlin
X-LIC-LOCATION:Europe/Berlin
BEGIN:DAYLIGHT
DTSTART:20230326T030000
TZNAME:CEST
TZOFFSETFROM:+0100
TZOFFSETTO:+0200
END:DAYLIGHT
END:VTIMEZONE
END:VCALENDAR
