BEGIN:VCALENDAR
VERSION:2.0
PRODID:-//Plone.org//NONSGML plone.app.event//EN
X-WR-TIMEZONE:Europe/Berlin
BEGIN:VEVENT
SUMMARY:Themenführung zu: sehen • innehalten • werden – KATHARINA N
 ATALIE EITEL am Aktionstag: Internationaler Museumstag „Museums uniting 
 a divided world“
DTSTART;TZID=Europe/Berlin:20260517T150000
DTEND;TZID=Europe/Berlin:20260517T160000
DTSTAMP:20260421T181737Z
UID:8d9621f34fc14064bd4671b0f0cd45ae@www.uni-marburg.de
ATTENDEE;CN="Ricarda Straub-Unger";ROLE=REQ-PARTICIPANT:Ricarda Straub-Ung
 er
CATEGORIES:()
CREATED:20250626T083014Z
DESCRIPTION:https://www.uni-marburg.de/de/museum/aktuelles/termine/2026-q2
 -aktionstag-05-17-themenfuehrung-k-n-eitel\n
LAST-MODIFIED:20260325T144518Z
LOCATION:Kunstmuseum Marburg\, Biegenstraße 11
URL:https://www.uni-marburg.de/de/museum/aktuelles/termine/2026-q2-aktions
 tag-05-17-themenfuehrung-k-n-eitel
END:VEVENT
BEGIN:VTIMEZONE
TZID:Europe/Berlin
X-LIC-LOCATION:Europe/Berlin
BEGIN:DAYLIGHT
DTSTART:20260329T030000
TZNAME:CEST
TZOFFSETFROM:+0100
TZOFFSETTO:+0200
END:DAYLIGHT
END:VTIMEZONE
END:VCALENDAR
