BEGIN:VCALENDAR
VERSION:2.0
PRODID:-//Plone.org//NONSGML plone.app.event//EN
X-WR-TIMEZONE:Europe/Berlin
BEGIN:VEVENT
SUMMARY:Aktionstag: Nacht der Kunst 2026
DTSTART;VALUE=DATE:20260612
DTEND;VALUE=DATE:20260613
DTSTAMP:20260423T191135Z
UID:dfe09286d92c43f3bfcb0fe522db0a19@www.uni-marburg.de
CATEGORIES:()
CREATED:20250626T083014Z
DESCRIPTION:https://www.uni-marburg.de/de/museum/aktuelles/termine/2026-q2
 -aktionstag-06-12-nacht-der-kunst\n
LAST-MODIFIED:20260325T144500Z
LOCATION:Kunstmuseum Marburg\, Biegenstraße 11
URL:https://www.uni-marburg.de/de/museum/aktuelles/termine/2026-q2-aktions
 tag-06-12-nacht-der-kunst
END:VEVENT
END:VCALENDAR
