BEGIN:VCALENDAR
VERSION:2.0
PRODID:-//Plone.org//NONSGML plone.app.event//EN
X-WR-TIMEZONE:Europe/Berlin
BEGIN:VEVENT
SUMMARY:Aktionstag: Internationaler Museumstag „Museums uniting a divide
 d world“
DTSTART;VALUE=DATE:20260517
DTEND;VALUE=DATE:20260518
DTSTAMP:20260423T090210Z
UID:2a5370045b214f639e4c84a9bfe001bf@www.uni-marburg.de
CATEGORIES:()
CREATED:20250626T083014Z
DESCRIPTION:https://www.uni-marburg.de/de/museum/aktuelles/termine/2026-q2
 -aktionstag\n
LAST-MODIFIED:20260326T125032Z
LOCATION:Kunstmuseum Marburg\, Biegenstraße 11
URL:https://www.uni-marburg.de/de/museum/aktuelles/termine/2026-q2-aktions
 tag
END:VEVENT
END:VCALENDAR
