BEGIN:VCALENDAR
VERSION:2.0
PRODID:-//Plone.org//NONSGML plone.app.event//EN
X-WR-TIMEZONE:Europe/Berlin
BEGIN:VEVENT
SUMMARY:Ausstellungseröffnung: sehen • innehalten • werden – KATHAR
 INA NATALIE EITEL
DTSTART;TZID=Europe/Berlin:20260426T110000
DTEND;TZID=Europe/Berlin:20260426T130000
DTSTAMP:20260421T024810Z
UID:b19ece3960a4432c9868de06c1b2ad00@www.uni-marburg.de
CATEGORIES:()
CREATED:20251113T102819Z
DESCRIPTION:https://www.uni-marburg.de/de/museum/aktuelles/termine/2026-q2
 -ausstellungseroeffnung-k-n-eitel\n
LAST-MODIFIED:20260326T162045Z
LOCATION:Kunstmuseum Marburg\, Biegenstraße 11
URL:https://www.uni-marburg.de/de/museum/aktuelles/termine/2026-q2-ausstel
 lungseroeffnung-k-n-eitel
END:VEVENT
BEGIN:VTIMEZONE
TZID:Europe/Berlin
X-LIC-LOCATION:Europe/Berlin
BEGIN:DAYLIGHT
DTSTART:20260329T030000
TZNAME:CEST
TZOFFSETFROM:+0100
TZOFFSETTO:+0200
END:DAYLIGHT
END:VTIMEZONE
END:VCALENDAR
