BEGIN:VCALENDAR
VERSION:2.0
PRODID:-//Plone.org//NONSGML plone.app.event//EN
X-WR-TIMEZONE:Europe/Berlin
BEGIN:VEVENT
SUMMARY:NEU: Familien-Kunstzeit
DTSTART;TZID=Europe/Berlin:20260611T110000
DTEND;TZID=Europe/Berlin:20260611T123000
DTSTAMP:20260423T170509Z
UID:2adbb708cfeb4c2ebb98b86fff569398@www.uni-marburg.de
ATTENDEE;CN="Swantje Frank-Jakob";ROLE=REQ-PARTICIPANT:Swantje Frank-Jakob
CATEGORIES:()
CREATED:20260108T124733Z
DESCRIPTION:https://www.uni-marburg.de/de/museum/aktuelles/termine/2026-q2
 -familien-kunstzeit-06-11\n
LAST-MODIFIED:20260325T142431Z
LOCATION:Kunstmuseum Marburg\, Biegenstraße 11
URL:https://www.uni-marburg.de/de/museum/aktuelles/termine/2026-q2-familie
 n-kunstzeit-06-11
END:VEVENT
BEGIN:VTIMEZONE
TZID:Europe/Berlin
X-LIC-LOCATION:Europe/Berlin
BEGIN:DAYLIGHT
DTSTART:20260329T030000
TZNAME:CEST
TZOFFSETFROM:+0100
TZOFFSETTO:+0200
END:DAYLIGHT
END:VTIMEZONE
END:VCALENDAR
