BEGIN:VCALENDAR
VERSION:2.0
PRODID:-//Plone.org//NONSGML plone.app.event//EN
X-WR-TIMEZONE:Europe/Berlin
BEGIN:VEVENT
SUMMARY:Kunstpause: Gerard Seghers\, Dornenkrönung Christi\, Um 1620/1630
DTSTART;TZID=Europe/Berlin:20260415T123000
DTEND;TZID=Europe/Berlin:20260415T130000
DTSTAMP:20260423T232847Z
UID:78a5e57212104a9799347f3fdf16dafa@www.uni-marburg.de
ATTENDEE;CN="Dr. Christoph Otterbeck";ROLE=REQ-PARTICIPANT:Dr. Christoph O
 tterbeck
CATEGORIES:()
CREATED:20250404T115501Z
DESCRIPTION:https://www.uni-marburg.de/de/museum/aktuelles/termine/2026-q2
 -kunstpause-04-15-seghers-dornenkroenung\n
LAST-MODIFIED:20260326T125546Z
LOCATION:Kunstmuseum Marburg\, Biegenstraße 11
URL:https://www.uni-marburg.de/de/museum/aktuelles/termine/2026-q2-kunstpa
 use-04-15-seghers-dornenkroenung
END:VEVENT
BEGIN:VTIMEZONE
TZID:Europe/Berlin
X-LIC-LOCATION:Europe/Berlin
BEGIN:DAYLIGHT
DTSTART:20260329T030000
TZNAME:CEST
TZOFFSETFROM:+0100
TZOFFSETTO:+0200
END:DAYLIGHT
END:VTIMEZONE
END:VCALENDAR
