BEGIN:VCALENDAR
VERSION:2.0
PRODID:-//Plone.org//NONSGML plone.app.event//EN
X-WR-TIMEZONE:Europe/Berlin
BEGIN:VEVENT
SUMMARY:Kunstpause: Hermann Sattler\, Tiermalschule\, 1913–1945
DTSTART;TZID=Europe/Berlin:20260429T123000
DTEND;TZID=Europe/Berlin:20260429T130000
DTSTAMP:20260420T160220Z
UID:1a53dfd6c4ce459b9991b6f64988d382@www.uni-marburg.de
ATTENDEE;CN="Imogen Grönninger, Schwerpunkt Restaurierung";ROLE=REQ-PARTI
 CIPANT:Imogen Grönninger, Schwerpunkt Restaurierung
CATEGORIES:()
CREATED:20250404T115501Z
DESCRIPTION:https://www.uni-marburg.de/de/museum/aktuelles/termine/2026-q2
 -kunstpause-04-29-sattler-tiermalschule\n
LAST-MODIFIED:20260325T140327Z
LOCATION:Kunstmuseum Marburg\, Biegenstraße 11
URL:https://www.uni-marburg.de/de/museum/aktuelles/termine/2026-q2-kunstpa
 use-04-29-sattler-tiermalschule
END:VEVENT
BEGIN:VTIMEZONE
TZID:Europe/Berlin
X-LIC-LOCATION:Europe/Berlin
BEGIN:DAYLIGHT
DTSTART:20260329T030000
TZNAME:CEST
TZOFFSETFROM:+0100
TZOFFSETTO:+0200
END:DAYLIGHT
END:VTIMEZONE
END:VCALENDAR
