BEGIN:VCALENDAR
VERSION:2.0
PRODID:-//Plone.org//NONSGML plone.app.event//EN
X-WR-TIMEZONE:Europe/Berlin
BEGIN:VEVENT
SUMMARY:Kunstpause: Katharina Natalie Eitel
DTSTART;TZID=Europe/Berlin:20260506T123000
DTEND;TZID=Europe/Berlin:20260506T130000
DTSTAMP:20260420T073650Z
UID:dcd34a020b744128a8b72ca2419390e6@www.uni-marburg.de
ATTENDEE;CN="Vorname Nachname";ROLE=REQ-PARTICIPANT:Vorname Nachname
CATEGORIES:()
CREATED:20250404T115501Z
DESCRIPTION:https://www.uni-marburg.de/de/museum/aktuelles/termine/2026-q2
 -kunstpause-05-06-k-n-eitel\n
LAST-MODIFIED:20260325T140330Z
LOCATION:Kunstmuseum Marburg\, Biegenstraße 11
URL:https://www.uni-marburg.de/de/museum/aktuelles/termine/2026-q2-kunstpa
 use-05-06-k-n-eitel
END:VEVENT
BEGIN:VTIMEZONE
TZID:Europe/Berlin
X-LIC-LOCATION:Europe/Berlin
BEGIN:DAYLIGHT
DTSTART:20260329T030000
TZNAME:CEST
TZOFFSETFROM:+0100
TZOFFSETTO:+0200
END:DAYLIGHT
END:VTIMEZONE
END:VCALENDAR
