BEGIN:VCALENDAR
VERSION:2.0
PRODID:-//Plone.org//NONSGML plone.app.event//EN
X-WR-TIMEZONE:Europe/Berlin
BEGIN:VEVENT
SUMMARY:Kunstpause: Marburger Fotografien
DTSTART;TZID=Europe/Berlin:20260513T123000
DTEND;TZID=Europe/Berlin:20260513T130000
DTSTAMP:20260421T231322Z
UID:52cccd4c388b4eb0a4a98cc54980d7cf@www.uni-marburg.de
ATTENDEE;CN="Helen Schnecker";ROLE=REQ-PARTICIPANT:Helen Schnecker
CATEGORIES:()
CREATED:20250404T115501Z
DESCRIPTION:https://www.uni-marburg.de/de/museum/aktuelles/termine/2026-q2
 -kunstpause-05-13-fotografien\n
LAST-MODIFIED:20260325T140333Z
LOCATION:Kunstmuseum Marburg\, Biegenstraße 11
URL:https://www.uni-marburg.de/de/museum/aktuelles/termine/2026-q2-kunstpa
 use-05-13-fotografien
END:VEVENT
BEGIN:VTIMEZONE
TZID:Europe/Berlin
X-LIC-LOCATION:Europe/Berlin
BEGIN:DAYLIGHT
DTSTART:20260329T030000
TZNAME:CEST
TZOFFSETFROM:+0100
TZOFFSETTO:+0200
END:DAYLIGHT
END:VTIMEZONE
END:VCALENDAR
