BEGIN:VCALENDAR
VERSION:2.0
PRODID:-//Plone.org//NONSGML plone.app.event//EN
X-WR-TIMEZONE:Europe/Berlin
BEGIN:VEVENT
SUMMARY:Kunstpause: Richard Earlom nach Claude Lorrain\, Landschaft mit Jo
 hannes dem Täufer\, Blatt 97 des Liber Veritatis\, 1775
DTSTART;TZID=Europe/Berlin:20260520T123000
DTEND;TZID=Europe/Berlin:20260520T130000
DTSTAMP:20260421T171756Z
UID:0af740188d8842139bbd937875549d62@www.uni-marburg.de
ATTENDEE;CN="Nico Schulze";ROLE=REQ-PARTICIPANT:Nico Schulze
CATEGORIES:()
CREATED:20250404T115501Z
DESCRIPTION:https://www.uni-marburg.de/de/museum/aktuelles/termine/2026-q2
 -kunstpause-05-20-liber-veritatis\n
LAST-MODIFIED:20260325T140336Z
LOCATION:Kunstmuseum Marburg\, Biegenstraße 11
URL:https://www.uni-marburg.de/de/museum/aktuelles/termine/2026-q2-kunstpa
 use-05-20-liber-veritatis
END:VEVENT
BEGIN:VTIMEZONE
TZID:Europe/Berlin
X-LIC-LOCATION:Europe/Berlin
BEGIN:DAYLIGHT
DTSTART:20260329T030000
TZNAME:CEST
TZOFFSETFROM:+0100
TZOFFSETTO:+0200
END:DAYLIGHT
END:VTIMEZONE
END:VCALENDAR
