BEGIN:VCALENDAR
VERSION:2.0
PRODID:-//Plone.org//NONSGML plone.app.event//EN
X-WR-TIMEZONE:Europe/Berlin
BEGIN:VEVENT
SUMMARY:Kunstpause: Heinrich Giebel\, Bildnis des Karl Eilhard Wilhelm Bus
 ch\, 1938
DTSTART;TZID=Europe/Berlin:20260527T123000
DTEND;TZID=Europe/Berlin:20260527T130000
DTSTAMP:20260422T084321Z
UID:0c0abccd5e8443869f5ee337333b6e1c@www.uni-marburg.de
ATTENDEE;CN="Daniel Bubel";ROLE=REQ-PARTICIPANT:Daniel Bubel
CATEGORIES:()
CREATED:20250404T115501Z
DESCRIPTION:https://www.uni-marburg.de/de/museum/aktuelles/termine/2026-q2
 -kunstpause-05-27-giebel-busch\n
LAST-MODIFIED:20260325T140339Z
LOCATION:Kunstmuseum Marburg\, Biegenstraße 11
URL:https://www.uni-marburg.de/de/museum/aktuelles/termine/2026-q2-kunstpa
 use-05-27-giebel-busch
END:VEVENT
BEGIN:VTIMEZONE
TZID:Europe/Berlin
X-LIC-LOCATION:Europe/Berlin
BEGIN:DAYLIGHT
DTSTART:20260329T030000
TZNAME:CEST
TZOFFSETFROM:+0100
TZOFFSETTO:+0200
END:DAYLIGHT
END:VTIMEZONE
END:VCALENDAR
