BEGIN:VCALENDAR
VERSION:2.0
PRODID:-//Plone.org//NONSGML plone.app.event//EN
X-WR-TIMEZONE:Europe/Berlin
BEGIN:VEVENT
SUMMARY:Kunstpause: Musikalische Kunstpause
DTSTART;TZID=Europe/Berlin:20260620T123000
DTEND;TZID=Europe/Berlin:20260620T130000
DTSTAMP:20260423T000143Z
UID:6d47424f0d034d7f8d64b6ed1cc52595@www.uni-marburg.de
ATTENDEE;CN="Vorname Nachname";ROLE=REQ-PARTICIPANT:Vorname Nachname
CATEGORIES:()
CREATED:20250404T115501Z
DESCRIPTION:https://www.uni-marburg.de/de/museum/aktuelles/termine/2026-q2
 -kunstpause-06-10-musikalisch\n
LAST-MODIFIED:20260325T140346Z
LOCATION:Kunstmuseum Marburg\, Biegenstraße 11
URL:https://www.uni-marburg.de/de/museum/aktuelles/termine/2026-q2-kunstpa
 use-06-10-musikalisch
END:VEVENT
BEGIN:VTIMEZONE
TZID:Europe/Berlin
X-LIC-LOCATION:Europe/Berlin
BEGIN:DAYLIGHT
DTSTART:20260329T030000
TZNAME:CEST
TZOFFSETFROM:+0100
TZOFFSETTO:+0200
END:DAYLIGHT
END:VTIMEZONE
END:VCALENDAR
