BEGIN:VCALENDAR
VERSION:2.0
PRODID:-//Plone.org//NONSGML plone.app.event//EN
X-WR-TIMEZONE:Europe/Berlin
BEGIN:VEVENT
SUMMARY:Kunstpause: Ludwig Emil & Ideke Grimm\, Entwürfe als Radierungen\
 , 1837/1838
DTSTART;TZID=Europe/Berlin:20260617T123000
DTEND;TZID=Europe/Berlin:20260617T130000
DTSTAMP:20260422T220559Z
UID:488e8e0b2b5245fb891285cbf7248707@www.uni-marburg.de
ATTENDEE;CN="Susanne Ehlers, Schwerpunkt Graphik";ROLE=REQ-PARTICIPANT:Sus
 anne Ehlers, Schwerpunkt Graphik
CATEGORIES:()
CREATED:20250404T115501Z
DESCRIPTION:https://www.uni-marburg.de/de/museum/aktuelles/termine/2026-q2
 -kunstpause-06-17-emil-grimm\n
LAST-MODIFIED:20260325T140349Z
LOCATION:Kunstmuseum Marburg\, Biegenstraße 11
URL:https://www.uni-marburg.de/de/museum/aktuelles/termine/2026-q2-kunstpa
 use-06-17-emil-grimm
END:VEVENT
BEGIN:VTIMEZONE
TZID:Europe/Berlin
X-LIC-LOCATION:Europe/Berlin
BEGIN:DAYLIGHT
DTSTART:20260329T030000
TZNAME:CEST
TZOFFSETFROM:+0100
TZOFFSETTO:+0200
END:DAYLIGHT
END:VTIMEZONE
END:VCALENDAR
