BEGIN:VCALENDAR
VERSION:2.0
PRODID:-//Plone.org//NONSGML plone.app.event//EN
X-WR-TIMEZONE:Europe/Berlin
BEGIN:VEVENT
SUMMARY:Kunstpause: Lovis Corinth\, Bacchanal\, 1921
DTSTART;TZID=Europe/Berlin:20260624T123000
DTEND;TZID=Europe/Berlin:20260624T130000
DTSTAMP:20260422T230041Z
UID:168c86a843dc4f71b1b8088596e029fe@www.uni-marburg.de
ATTENDEE;CN="Ricarda Straub-Unger";ROLE=REQ-PARTICIPANT:Ricarda Straub-Ung
 er
CATEGORIES:()
CREATED:20250404T115501Z
DESCRIPTION:https://www.uni-marburg.de/de/museum/aktuelles/termine/2026-q2
 -kunstpause-06-24-corinth-bacchanal\n
LAST-MODIFIED:20260325T140314Z
LOCATION:Kunstmuseum Marburg\, Biegenstraße 11
URL:https://www.uni-marburg.de/de/museum/aktuelles/termine/2026-q2-kunstpa
 use-06-24-corinth-bacchanal
END:VEVENT
BEGIN:VTIMEZONE
TZID:Europe/Berlin
X-LIC-LOCATION:Europe/Berlin
BEGIN:DAYLIGHT
DTSTART:20260329T030000
TZNAME:CEST
TZOFFSETFROM:+0100
TZOFFSETTO:+0200
END:DAYLIGHT
END:VTIMEZONE
END:VCALENDAR
