BEGIN:VCALENDAR
VERSION:2.0
PRODID:-//Plone.org//NONSGML plone.app.event//EN
X-WR-TIMEZONE:Europe/Berlin
BEGIN:VEVENT
SUMMARY:Schlossbegegnungen: Aufgeschlossen – Wissenswertes  aus der Werk
 statt
DTSTART;TZID=Europe/Berlin:20260526T190000
DTEND;TZID=Europe/Berlin:20260526T203000
DTSTAMP:20260424T085100Z
UID:a1c7f4361b914721942fb8eff703619e@www.uni-marburg.de
ATTENDEE;CN="Pfarrer Timo Janssen, Repetent der Hessischen Stipendiat*inne
 nanstalt";ROLE=REQ-PARTICIPANT:Pfarrer Timo Janssen, Repetent der Hessisch
 en Stipendiat*innenanstalt
CATEGORIES:(),Schlossbegegnungen
CREATED:20250410T100631Z
DESCRIPTION:https://www.uni-marburg.de/de/museum/aktuelles/termine/2026-q2
 -schlossbegegnungen-aufgeschlossen-janssen\nLiebe und Gemeinschaft (Vortra
 g)
LAST-MODIFIED:20260415T092952Z
LOCATION:Fürstensaal\, Landgrafenschloss Marburg
URL:https://www.uni-marburg.de/de/museum/aktuelles/termine/2026-q2-schloss
 begegnungen-aufgeschlossen-janssen
END:VEVENT
BEGIN:VTIMEZONE
TZID:Europe/Berlin
X-LIC-LOCATION:Europe/Berlin
BEGIN:DAYLIGHT
DTSTART:20260329T030000
TZNAME:CEST
TZOFFSETFROM:+0100
TZOFFSETTO:+0200
END:DAYLIGHT
END:VTIMEZONE
END:VCALENDAR
