BEGIN:VCALENDAR
VERSION:2.0
PRODID:-//Plone.org//NONSGML plone.app.event//EN
X-WR-TIMEZONE:Europe/Berlin
BEGIN:VEVENT
SUMMARY:Schlossbegegnungen: Aufgetischt – Auf einen Kaffee mit … Dr. H
 elge Baumann\, Klassische Philologie
DTSTART;TZID=Europe/Berlin:20260428T170000
DTSTAMP:20260424T032851Z
UID:4ed421fb0a3341ef99dc5cec51c77cf0@www.uni-marburg.de
ATTENDEE;CN="Dr. Helge Baumann";ROLE=REQ-PARTICIPANT:Dr. Helge Baumann
CATEGORIES:(),Schlossbegegnungen
CREATED:20250410T100631Z
DESCRIPTION:https://www.uni-marburg.de/de/museum/aktuelles/termine/2026-q2
 -schlossbegegnungen-aufgetischt-helge-baumann\n
LAST-MODIFIED:20260415T083806Z
LOCATION:Foyer\, Landgrafenschloss Marburg
URL:https://www.uni-marburg.de/de/museum/aktuelles/termine/2026-q2-schloss
 begegnungen-aufgetischt-helge-baumann
END:VEVENT
BEGIN:VTIMEZONE
TZID:Europe/Berlin
X-LIC-LOCATION:Europe/Berlin
BEGIN:DAYLIGHT
DTSTART:20260329T030000
TZNAME:CEST
TZOFFSETFROM:+0100
TZOFFSETTO:+0200
END:DAYLIGHT
END:VTIMEZONE
END:VCALENDAR
