BEGIN:VCALENDAR
VERSION:2.0
PRODID:-//Plone.org//NONSGML plone.app.event//EN
X-WR-TIMEZONE:Europe/Berlin
BEGIN:VEVENT
SUMMARY:Schlossbegegnungen: Ökosphäre Schloss – Wunderbare wandelbare 
 Tierwelt
DTSTART;TZID=Europe/Berlin:20260426T090000
DTEND;TZID=Europe/Berlin:20260426T113000
DTSTAMP:20260421T030834Z
UID:0a6a0d3787ff4e41ac1e293913b3c2b2@www.uni-marburg.de
ATTENDEE;CN=NAJU;ROLE=REQ-PARTICIPANT:NAJU
CATEGORIES:(),Schlossbegegnungen
CREATED:20250410T100631Z
DESCRIPTION:https://www.uni-marburg.de/de/museum/aktuelles/termine/2026-q2
 -schlossbegegnungen-oekosphaere\n
LAST-MODIFIED:20260415T083138Z
LOCATION:Lummersbach\, Cyriaxstraße\, Einfahrt Richtung Polizeioldtimer-M
 useum in Marburg Neuhöfe
URL:https://www.uni-marburg.de/de/museum/aktuelles/termine/2026-q2-schloss
 begegnungen-oekosphaere
END:VEVENT
BEGIN:VTIMEZONE
TZID:Europe/Berlin
X-LIC-LOCATION:Europe/Berlin
BEGIN:DAYLIGHT
DTSTART:20260329T030000
TZNAME:CEST
TZOFFSETFROM:+0100
TZOFFSETTO:+0200
END:DAYLIGHT
END:VTIMEZONE
END:VCALENDAR
