BEGIN:VCALENDAR
VERSION:2.0
PRODID:-//Plone.org//NONSGML plone.app.event//EN
X-WR-TIMEZONE:Europe/Berlin
BEGIN:VEVENT
SUMMARY:Schlossbegegnungen: Liebe\, Schmerz und Klang (Podiumsdiskussion)
DTSTART;TZID=Europe/Berlin:20260505T190000
DTEND;TZID=Europe/Berlin:20260505T203000
DTSTAMP:20260421T130106Z
UID:b2484ea5a76143f59ad081f64cee42df@www.uni-marburg.de
ATTENDEE;CN="Prof. Dr. Hanna Christiansen, Klinische Kinder- und Jugendpsy
 chologie";ROLE=REQ-PARTICIPANT:Prof. Dr. Hanna Christiansen, Klinische Kin
 der- und Jugendpsychologie
ATTENDEE;CN="Prof. Dr. Ina Knoth, Musikwissenschaft";ROLE=REQ-PARTICIPANT:
 Prof. Dr. Ina Knoth, Musikwissenschaft
ATTENDEE;CN="Prof. Dr. Mathias Scharinger, Phonetik und Neurolinguistik ";
 ROLE=REQ-PARTICIPANT:Prof. Dr. Mathias Scharinger, Phonetik und Neurolingu
 istik 
ATTENDEE;CN="Moderation: Prof. Dr. Ulf Henrik Göhle, Motologie";ROLE=REQ-
 PARTICIPANT:Moderation: Prof. Dr. Ulf Henrik Göhle, Motologie
ATTENDEE;CN="Tonbeispiele: Guoda Gedvilaitė, Klavier";ROLE=REQ-PARTICIPAN
 T:Tonbeispiele: Guoda Gedvilaitė, Klavier
CATEGORIES:(),Schlossbegegnungen
CREATED:20250410T100631Z
DESCRIPTION:https://www.uni-marburg.de/de/museum/aktuelles/termine/2026-q2
 -schlossbegegnungen-podiumsdiskussion-maienrausch\n
LAST-MODIFIED:20260415T085123Z
LOCATION:Fürstensaal\, Landgrafenschloss Marburg
URL:https://www.uni-marburg.de/de/museum/aktuelles/termine/2026-q2-schloss
 begegnungen-podiumsdiskussion-maienrausch
END:VEVENT
BEGIN:VTIMEZONE
TZID:Europe/Berlin
X-LIC-LOCATION:Europe/Berlin
BEGIN:DAYLIGHT
DTSTART:20260329T030000
TZNAME:CEST
TZOFFSETFROM:+0100
TZOFFSETTO:+0200
END:DAYLIGHT
END:VTIMEZONE
END:VCALENDAR
