BEGIN:VCALENDAR
VERSION:2.0
PRODID:-//Plone.org//NONSGML plone.app.event//EN
X-WR-TIMEZONE:Europe/Berlin
BEGIN:VEVENT
SUMMARY:Schlossbegegnungen: Resonanzräume – Besondere Orte\,  besondere
  Klänge
DTSTART;TZID=Europe/Berlin:20260530T190000
DTEND;TZID=Europe/Berlin:20260530T210000
DTSTAMP:20260421T233615Z
UID:615f580191b242d088ff2d99371011f6@www.uni-marburg.de
ATTENDEE;CN="Franziska Gottwald, Gesang";ROLE=REQ-PARTICIPANT:Franziska Go
 ttwald, Gesang
ATTENDEE;CN="Mechthild Grabner, Rezitation";ROLE=REQ-PARTICIPANT:Mechthild
  Grabner, Rezitation
ATTENDEE;CN="Lukas Rommelspacher, Klavier ";ROLE=REQ-PARTICIPANT:Lukas R
 ommelspacher, Klavier 
CATEGORIES:(),Schlossbegegnungen
CREATED:20250410T100631Z
DESCRIPTION:https://www.uni-marburg.de/de/museum/aktuelles/termine/2026-q2
 -schlossbegegnungen-resonanzraeume-magelone\nJohannes Brahms – Ludwig Ti
 eck: Die schöne Magelone (Konzert)
LAST-MODIFIED:20260415T094921Z
LOCATION:Fürstensaal\, Landgrafenschloss Marburg
URL:https://www.uni-marburg.de/de/museum/aktuelles/termine/2026-q2-schloss
 begegnungen-resonanzraeume-magelone
END:VEVENT
BEGIN:VTIMEZONE
TZID:Europe/Berlin
X-LIC-LOCATION:Europe/Berlin
BEGIN:DAYLIGHT
DTSTART:20260329T030000
TZNAME:CEST
TZOFFSETFROM:+0100
TZOFFSETTO:+0200
END:DAYLIGHT
END:VTIMEZONE
END:VCALENDAR
