BEGIN:VCALENDAR
VERSION:2.0
PRODID:-//Plone.org//NONSGML plone.app.event//EN
X-WR-TIMEZONE:Europe/Berlin
BEGIN:VEVENT
SUMMARY:Schlossbegegnungen: Schlossgeflüster – Wenn Worte leuchten
DTSTART;TZID=Europe/Berlin:20260512T190000
DTEND;TZID=Europe/Berlin:20260512T200000
DTSTAMP:20260425T014230Z
UID:30a12f9e12444291a0f335a403fde054@www.uni-marburg.de
ATTENDEE;CN="Verena Hofmann";ROLE=REQ-PARTICIPANT:Verena Hofmann
CATEGORIES:(),Schlossbegegnungen
CREATED:20250410T100631Z
DESCRIPTION:https://www.uni-marburg.de/de/museum/aktuelles/termine/2026-q2
 -schlossbegegnungen-schlossgefluester-steinhoefel\nAndreas Steinhöfel: Di
 e Mitte der Welt (Auszug)
LAST-MODIFIED:20260415T090745Z
LOCATION:Fürstensaal\, Landgrafenschloss Marburg
URL:https://www.uni-marburg.de/de/museum/aktuelles/termine/2026-q2-schloss
 begegnungen-schlossgefluester-steinhoefel
END:VEVENT
BEGIN:VTIMEZONE
TZID:Europe/Berlin
X-LIC-LOCATION:Europe/Berlin
BEGIN:DAYLIGHT
DTSTART:20260329T030000
TZNAME:CEST
TZOFFSETFROM:+0100
TZOFFSETTO:+0200
END:DAYLIGHT
END:VTIMEZONE
END:VCALENDAR
