BEGIN:VCALENDAR
VERSION:2.0
PRODID:-//Plone.org//NONSGML plone.app.event//EN
X-WR-TIMEZONE:Europe/Berlin
BEGIN:VEVENT
SUMMARY:Themenführung: Künstlerinnen und Frauenbilder
DTSTART;TZID=Europe/Berlin:20260510T150000
DTEND;TZID=Europe/Berlin:20260510T160000
DTSTAMP:20260424T191116Z
UID:4c494d68aef1452eb0448ad6ec9ff397@www.uni-marburg.de
ATTENDEE;CN="Lil Schnettler";ROLE=REQ-PARTICIPANT:Lil Schnettler
CATEGORIES:()
CREATED:20260108T082432Z
DESCRIPTION:https://www.uni-marburg.de/de/museum/aktuelles/termine/2026-q2
 -themenfuehrung-05-10-frauenbilder\n
LAST-MODIFIED:20260326T121610Z
LOCATION:Kunstmuseum Marburg\, Biegenstraße 11
URL:https://www.uni-marburg.de/de/museum/aktuelles/termine/2026-q2-themenf
 uehrung-05-10-frauenbilder
END:VEVENT
BEGIN:VTIMEZONE
TZID:Europe/Berlin
X-LIC-LOCATION:Europe/Berlin
BEGIN:DAYLIGHT
DTSTART:20260329T030000
TZNAME:CEST
TZOFFSETFROM:+0100
TZOFFSETTO:+0200
END:DAYLIGHT
END:VTIMEZONE
END:VCALENDAR
