BEGIN:VCALENDAR
VERSION:2.0
PRODID:-//Plone.org//NONSGML plone.app.event//EN
X-WR-TIMEZONE:Europe/Berlin
BEGIN:VEVENT
SUMMARY:Themenführung: sehen · innehalten · werden – Katharina Natali
 e Eitel
DTSTART;TZID=Europe/Berlin:20260620T150000
DTEND;TZID=Europe/Berlin:20260620T160000
DTSTAMP:20260422T050632Z
UID:cb90e52cb7ef448491f7d30bbbf75cb1@www.uni-marburg.de
ATTENDEE;CN="Ricarda Straub-Unger";ROLE=REQ-PARTICIPANT:Ricarda Straub-Ung
 er
CATEGORIES:()
CREATED:20260108T082432Z
DESCRIPTION:https://www.uni-marburg.de/de/museum/aktuelles/termine/2026-q2
 -themenfuehrung-06-20-k-n-eitel\n
LAST-MODIFIED:20260325T143111Z
LOCATION:Kunstmuseum Marburg\, Biegenstraße 11
URL:https://www.uni-marburg.de/de/museum/aktuelles/termine/2026-q2-themenf
 uehrung-06-20-k-n-eitel
END:VEVENT
BEGIN:VTIMEZONE
TZID:Europe/Berlin
X-LIC-LOCATION:Europe/Berlin
BEGIN:DAYLIGHT
DTSTART:20260329T030000
TZNAME:CEST
TZOFFSETFROM:+0100
TZOFFSETTO:+0200
END:DAYLIGHT
END:VTIMEZONE
END:VCALENDAR
