BEGIN:VCALENDAR
VERSION:2.0
PRODID:-//Plone.org//NONSGML plone.app.event//EN
X-WR-TIMEZONE:Europe/Berlin
BEGIN:VEVENT
SUMMARY:WerkStattZeit: Penny Stocks – Vom Ausdruck am Anfang
DTSTART;TZID=Europe/Berlin:20260419T140000
DTEND;TZID=Europe/Berlin:20260419T160000
DTSTAMP:20260424T044156Z
UID:6f0668520ca0423d8bafcb79e4acfcf1@www.uni-marburg.de
ATTENDEE;CN="Susanne Dilger";ROLE=REQ-PARTICIPANT:Susanne Dilger
CATEGORIES:()
CREATED:20250626T070217Z
DESCRIPTION:https://www.uni-marburg.de/de/museum/aktuelles/termine/2026-q2
 -werkstattzeit-04-19-penny-stocks\n
LAST-MODIFIED:20260325T145307Z
LOCATION:Kunstmuseum Marburg\, Biegenstraße 11
URL:https://www.uni-marburg.de/de/museum/aktuelles/termine/2026-q2-werksta
 ttzeit-04-19-penny-stocks
END:VEVENT
BEGIN:VTIMEZONE
TZID:Europe/Berlin
X-LIC-LOCATION:Europe/Berlin
BEGIN:DAYLIGHT
DTSTART:20260329T030000
TZNAME:CEST
TZOFFSETFROM:+0100
TZOFFSETTO:+0200
END:DAYLIGHT
END:VTIMEZONE
END:VCALENDAR
