BEGIN:VCALENDAR
VERSION:2.0
PRODID:-//Plone.org//NONSGML plone.app.event//EN
X-WR-TIMEZONE:Europe/Berlin
BEGIN:VEVENT
SUMMARY:WerkStattZeit: Schwarz auf Weiß – Tusche und Pinsel
DTSTART;TZID=Europe/Berlin:20260503T140000
DTEND;TZID=Europe/Berlin:20260503T160000
DTSTAMP:20260421T231417Z
UID:cb1088e7189f4d02b4d6236daa05ab57@www.uni-marburg.de
ATTENDEE;CN="Susanne Dilger";ROLE=REQ-PARTICIPANT:Susanne Dilger
CATEGORIES:()
CREATED:20250626T070217Z
DESCRIPTION:https://www.uni-marburg.de/de/museum/aktuelles/termine/2026-q2
 -werkstattzeit-05-03-tusche-pinsel\n
LAST-MODIFIED:20260325T145255Z
LOCATION:Kunstmuseum Marburg\, Biegenstraße 11
URL:https://www.uni-marburg.de/de/museum/aktuelles/termine/2026-q2-werksta
 ttzeit-05-03-tusche-pinsel
END:VEVENT
BEGIN:VTIMEZONE
TZID:Europe/Berlin
X-LIC-LOCATION:Europe/Berlin
BEGIN:DAYLIGHT
DTSTART:20260329T030000
TZNAME:CEST
TZOFFSETFROM:+0100
TZOFFSETTO:+0200
END:DAYLIGHT
END:VTIMEZONE
END:VCALENDAR
