BEGIN:VCALENDAR
VERSION:2.0
PRODID:-//Plone.org//NONSGML plone.app.event//EN
X-WR-TIMEZONE:Europe/Berlin
BEGIN:VEVENT
SUMMARY:WerkStattZeit: Vom Bierdeckel zur Skulptur
DTSTART;TZID=Europe/Berlin:20260531T140000
DTEND;TZID=Europe/Berlin:20260531T160000
DTSTAMP:20260421T214614Z
UID:6c70b157b7004626a2d2d0456c242125@www.uni-marburg.de
ATTENDEE;CN="Elizaveta Gischler";ROLE=REQ-PARTICIPANT:Elizaveta Gischler
CATEGORIES:()
CREATED:20250626T070217Z
DESCRIPTION:https://www.uni-marburg.de/de/museum/aktuelles/termine/2026-q2
 -werkstattzeit-05-31-bierdeckel\n
LAST-MODIFIED:20260325T145246Z
LOCATION:Kunstmuseum Marburg\, Biegenstraße 11
URL:https://www.uni-marburg.de/de/museum/aktuelles/termine/2026-q2-werksta
 ttzeit-05-31-bierdeckel
END:VEVENT
BEGIN:VTIMEZONE
TZID:Europe/Berlin
X-LIC-LOCATION:Europe/Berlin
BEGIN:DAYLIGHT
DTSTART:20260329T030000
TZNAME:CEST
TZOFFSETFROM:+0100
TZOFFSETTO:+0200
END:DAYLIGHT
END:VTIMEZONE
END:VCALENDAR
