BEGIN:VCALENDAR
VERSION:2.0
PRODID:-//Plone.org//NONSGML plone.app.event//EN
X-WR-TIMEZONE:Europe/Berlin
BEGIN:VEVENT
SUMMARY:WerkStattZeit: Faszinierende Farben – Paul Baum
DTSTART;TZID=Europe/Berlin:20260628T140000
DTEND;TZID=Europe/Berlin:20260628T160000
DTSTAMP:20260421T143050Z
UID:0dcab29c2baf40d9a2ac9e0ae87fe8ba@www.uni-marburg.de
ATTENDEE;CN="Angelika Schönborn";ROLE=REQ-PARTICIPANT:Angelika Schönborn
CATEGORIES:()
CREATED:20250626T070217Z
DESCRIPTION:https://www.uni-marburg.de/de/museum/aktuelles/termine/2026-q2
 -werkstattzeit-06-28-paul-baum\n
LAST-MODIFIED:20260325T145235Z
LOCATION:Kunstmuseum Marburg\, Biegenstraße 11
URL:https://www.uni-marburg.de/de/museum/aktuelles/termine/2026-q2-werksta
 ttzeit-06-28-paul-baum
END:VEVENT
BEGIN:VTIMEZONE
TZID:Europe/Berlin
X-LIC-LOCATION:Europe/Berlin
BEGIN:DAYLIGHT
DTSTART:20260329T030000
TZNAME:CEST
TZOFFSETFROM:+0100
TZOFFSETTO:+0200
END:DAYLIGHT
END:VTIMEZONE
END:VCALENDAR
