BEGIN:VCALENDAR
VERSION:2.0
PRODID:-//Plone.org//NONSGML plone.app.event//EN
X-WR-TIMEZONE:Europe/Berlin
BEGIN:VEVENT
SUMMARY:Workshop: En plein air!
DTSTART;TZID=Europe/Berlin:20260614T130000
DTEND;TZID=Europe/Berlin:20260614T160000
DTSTAMP:20260419T203323Z
UID:dff9b3d088c24c8aa60fa1f81d79c143@www.uni-marburg.de
ATTENDEE;CN="Elizaveta Gischler";ROLE=REQ-PARTICIPANT:Elizaveta Gischler
CATEGORIES:()
CREATED:20250410T100631Z
DESCRIPTION:https://www.uni-marburg.de/de/museum/aktuelles/termine/2026-q2
 -workshop-06-14-plein-air\n
LAST-MODIFIED:20260325T150709Z
LOCATION:Kunstmuseum Marburg\, Biegenstraße 11
URL:https://www.uni-marburg.de/de/museum/aktuelles/termine/2026-q2-worksho
 p-06-14-plein-air
END:VEVENT
BEGIN:VTIMEZONE
TZID:Europe/Berlin
X-LIC-LOCATION:Europe/Berlin
BEGIN:DAYLIGHT
DTSTART:20260329T030000
TZNAME:CEST
TZOFFSETFROM:+0100
TZOFFSETTO:+0200
END:DAYLIGHT
END:VTIMEZONE
END:VCALENDAR
