BEGIN:VCALENDAR
VERSION:2.0
PRODID:-//Plone.org//NONSGML plone.app.event//EN
X-WR-TIMEZONE:Europe/Berlin
BEGIN:VEVENT
SUMMARY:Aktionstag: Tag des Offenen Denkmals
DTSTART;TZID=Europe/Berlin:20250914T110000
DTEND;TZID=Europe/Berlin:20250914T170000
DTSTAMP:20260424T074815Z
UID:ae933694039346fcab34b8a9ed459077@www.uni-marburg.de
CREATED:20250626T083014Z
DESCRIPTION:https://www.uni-marburg.de/de/museum/aktuelles/termine/aktions
 tag-tag-des-offenen-denkmals\n
LAST-MODIFIED:20250903T064057Z
LOCATION:Kunstmuseum Marburg\, Biegenstraße 11
URL:https://www.uni-marburg.de/de/museum/aktuelles/termine/aktionstag-tag-
 des-offenen-denkmals
END:VEVENT
BEGIN:VTIMEZONE
TZID:Europe/Berlin
X-LIC-LOCATION:Europe/Berlin
BEGIN:DAYLIGHT
DTSTART:20250330T030000
TZNAME:CEST
TZOFFSETFROM:+0100
TZOFFSETTO:+0200
END:DAYLIGHT
END:VTIMEZONE
END:VCALENDAR
