BEGIN:VCALENDAR
VERSION:2.0
PRODID:-//Plone.org//NONSGML plone.app.event//EN
X-WR-TIMEZONE:Europe/Berlin
BEGIN:VEVENT
SUMMARY:Bilder-Dialog: Andreas Schäfer - Lesung mit Gespräch
DTSTART;TZID=Europe/Berlin:20241128T180000
DTEND;TZID=Europe/Berlin:20241128T210000
DTSTAMP:20260422T160221Z
UID:98fca3f4195c4f03be97f73c4344bd0f@www.uni-marburg.de
CREATED:20241009T170717Z
DESCRIPTION:https://www.uni-marburg.de/de/museum/aktuelles/termine/bilder-
 dialog-andreas-schaefer-lesung-mit-gespraech\n
LAST-MODIFIED:20241009T170746Z
LOCATION:Kunstmuseum Marburg\, Biegenstraße 11
URL:https://www.uni-marburg.de/de/museum/aktuelles/termine/bilder-dialog-a
 ndreas-schaefer-lesung-mit-gespraech
END:VEVENT
BEGIN:VTIMEZONE
TZID:Europe/Berlin
X-LIC-LOCATION:Europe/Berlin
BEGIN:STANDARD
DTSTART:20241027T020000
TZNAME:CET
TZOFFSETFROM:+0200
TZOFFSETTO:+0100
END:STANDARD
END:VTIMEZONE
END:VCALENDAR
