BEGIN:VCALENDAR
VERSION:2.0
PRODID:-//Plone.org//NONSGML plone.app.event//EN
X-WR-TIMEZONE:Europe/Berlin
BEGIN:VEVENT
SUMMARY:Bilder-Dialog: Gespräch und Diskussion zur Sonderausstellung "Was
  ist Kunst?"
DTSTART;TZID=Europe/Berlin:20250828T190000
DTEND;TZID=Europe/Berlin:20250828T200000
DTSTAMP:20260424T143309Z
UID:9652bf866c2f4a07a8ff1818686e99af@www.uni-marburg.de
CREATED:20250626T085400Z
DESCRIPTION:https://www.uni-marburg.de/de/museum/aktuelles/termine/bilder-
 dialog-gespraech-und-diskussion-zur-sonderausstellung-was-ist-kunst\n
LAST-MODIFIED:20250626T085412Z
LOCATION:Kunstmuseum Marburg\, Biegenstraße 11
URL:https://www.uni-marburg.de/de/museum/aktuelles/termine/bilder-dialog-g
 espraech-und-diskussion-zur-sonderausstellung-was-ist-kunst
END:VEVENT
BEGIN:VTIMEZONE
TZID:Europe/Berlin
X-LIC-LOCATION:Europe/Berlin
BEGIN:DAYLIGHT
DTSTART:20250330T030000
TZNAME:CEST
TZOFFSETFROM:+0100
TZOFFSETTO:+0200
END:DAYLIGHT
END:VTIMEZONE
END:VCALENDAR
