BEGIN:VCALENDAR
VERSION:2.0
PRODID:-//Plone.org//NONSGML plone.app.event//EN
X-WR-TIMEZONE:Europe/Berlin
BEGIN:VEVENT
SUMMARY:Bilder-Dialog: Provenienzforschung im Museum
DTSTART;TZID=Europe/Berlin:20240926T180000
DTEND;TZID=Europe/Berlin:20240926T193000
DTSTAMP:20260425T214514Z
UID:9067013f5e0144a9b8ad46ec230d16fe@www.uni-marburg.de
ATTENDEE;CN="Susanne Ehlers";ROLE=REQ-PARTICIPANT:Susanne Ehlers
CREATED:20240626T094247Z
DESCRIPTION:https://www.uni-marburg.de/de/museum/aktuelles/termine/bilder-
 dialog-provenienzforschung-im-museum\n
LAST-MODIFIED:20240924T120724Z
LOCATION:Kunstmuseum Marburg
URL:https://www.uni-marburg.de/de/museum/aktuelles/termine/bilder-dialog-p
 rovenienzforschung-im-museum
END:VEVENT
BEGIN:VTIMEZONE
TZID:Europe/Berlin
X-LIC-LOCATION:Europe/Berlin
BEGIN:DAYLIGHT
DTSTART:20240331T030000
TZNAME:CEST
TZOFFSETFROM:+0100
TZOFFSETTO:+0200
END:DAYLIGHT
END:VTIMEZONE
END:VCALENDAR
