BEGIN:VCALENDAR
VERSION:2.0
PRODID:-//Plone.org//NONSGML plone.app.event//EN
X-WR-TIMEZONE:Europe/Berlin
BEGIN:VEVENT
SUMMARY:Kunstpause: Blick hinter die Kulissen der Restaurierung
DTSTART;TZID=Europe/Berlin:20251015T123000
DTEND;TZID=Europe/Berlin:20251015T130000
DTSTAMP:20260425T131207Z
UID:80bda1ad1e1f412dbf02ab1db4375ba6@www.uni-marburg.de
ATTENDEE;CN="Imogen Grönninger";ROLE=REQ-PARTICIPANT:Imogen Grönninger
CATEGORIES:()
CREATED:20250404T115501Z
DESCRIPTION:https://www.uni-marburg.de/de/museum/aktuelles/termine/copy15_
 of_kunstpause-theodor-rosenhauer-frau-mit-roter-jacke-am-runden-tisch-1960
 \n
LAST-MODIFIED:20250930T124107Z
LOCATION:Kunstmuseum Marburg\, Biegenstraße 11
URL:https://www.uni-marburg.de/de/museum/aktuelles/termine/copy15_of_kunst
 pause-theodor-rosenhauer-frau-mit-roter-jacke-am-runden-tisch-1960
END:VEVENT
BEGIN:VTIMEZONE
TZID:Europe/Berlin
X-LIC-LOCATION:Europe/Berlin
BEGIN:DAYLIGHT
DTSTART:20250330T030000
TZNAME:CEST
TZOFFSETFROM:+0100
TZOFFSETTO:+0200
END:DAYLIGHT
END:VTIMEZONE
END:VCALENDAR
