BEGIN:VCALENDAR
VERSION:2.0
PRODID:-//Plone.org//NONSGML plone.app.event//EN
X-WR-TIMEZONE:Europe/Berlin
BEGIN:VEVENT
SUMMARY:Themenführung: Sonderausstellung "Was ist Kunst?"
DTSTART;TZID=Europe/Berlin:20250823T140000
DTEND;TZID=Europe/Berlin:20250823T150000
DTSTAMP:20260424T122521Z
UID:fd463b660c264c91b75338d8259a1293@www.uni-marburg.de
ATTENDEE;CN="Elizaveta Gischler (KunstWerkStatt Marburg)";ROLE=REQ-PARTICI
 PANT:Elizaveta Gischler (KunstWerkStatt Marburg)
CREATED:20250626T084411Z
DESCRIPTION:https://www.uni-marburg.de/de/museum/aktuelles/termine/copy2_o
 f_themenfuehrung-sonderausstellung-was-ist-kunst\n
LAST-MODIFIED:20250626T084909Z
LOCATION:Kunstmuseum Marburg\, Biegenstraße 11
URL:https://www.uni-marburg.de/de/museum/aktuelles/termine/copy2_of_themen
 fuehrung-sonderausstellung-was-ist-kunst
END:VEVENT
BEGIN:VTIMEZONE
TZID:Europe/Berlin
X-LIC-LOCATION:Europe/Berlin
BEGIN:DAYLIGHT
DTSTART:20250330T030000
TZNAME:CEST
TZOFFSETFROM:+0100
TZOFFSETTO:+0200
END:DAYLIGHT
END:VTIMEZONE
END:VCALENDAR
