BEGIN:VCALENDAR
VERSION:2.0
PRODID:-//Plone.org//NONSGML plone.app.event//EN
X-WR-TIMEZONE:Europe/Berlin
BEGIN:VEVENT
SUMMARY:Workshop: Federleicht - Pflanzenzeichnen mit der Feder
DTSTART;TZID=Europe/Berlin:20250504T130000
DTEND;TZID=Europe/Berlin:20250504T160000
DTSTAMP:20260421T192223Z
UID:3d431adc70cf4eeea6ff05a2a7f33df8@www.uni-marburg.de
ATTENDEE;CN="Elizaveta Gischler";ROLE=REQ-PARTICIPANT:Elizaveta Gischler
CREATED:20250410T093620Z
DESCRIPTION:https://www.uni-marburg.de/de/museum/aktuelles/termine/copy4_o
 f_workshop-federleicht-pflanzenzeichnen-mit-der-feder\n
LAST-MODIFIED:20250410T095554Z
LOCATION:Kunstmuseum Marburg\, Biegenstraße 11
URL:https://www.uni-marburg.de/de/museum/aktuelles/termine/copy4_of_worksh
 op-federleicht-pflanzenzeichnen-mit-der-feder
END:VEVENT
BEGIN:VTIMEZONE
TZID:Europe/Berlin
X-LIC-LOCATION:Europe/Berlin
BEGIN:DAYLIGHT
DTSTART:20250330T030000
TZNAME:CEST
TZOFFSETFROM:+0100
TZOFFSETTO:+0200
END:DAYLIGHT
END:VTIMEZONE
END:VCALENDAR
