BEGIN:VCALENDAR
VERSION:2.0
PRODID:-//Plone.org//NONSGML plone.app.event//EN
X-WR-TIMEZONE:Europe/Berlin
BEGIN:VEVENT
SUMMARY:Workshop: Bild und Typographie
DTSTART;TZID=Europe/Berlin:20250615T130000
DTEND;TZID=Europe/Berlin:20250615T160000
DTSTAMP:20260421T192209Z
UID:a5132c96d5a649cd83d122c876897104@www.uni-marburg.de
ATTENDEE;CN="Randi Grundke";ROLE=REQ-PARTICIPANT:Randi Grundke
CREATED:20250410T093620Z
DESCRIPTION:https://www.uni-marburg.de/de/museum/aktuelles/termine/copy5_o
 f_workshop-federleicht-pflanzenzeichnen-mit-der-feder\n
LAST-MODIFIED:20250410T095554Z
LOCATION:Kunstmuseum Marburg\, Biegenstraße 11
URL:https://www.uni-marburg.de/de/museum/aktuelles/termine/copy5_of_worksh
 op-federleicht-pflanzenzeichnen-mit-der-feder
END:VEVENT
BEGIN:VTIMEZONE
TZID:Europe/Berlin
X-LIC-LOCATION:Europe/Berlin
BEGIN:DAYLIGHT
DTSTART:20250330T030000
TZNAME:CEST
TZOFFSETFROM:+0100
TZOFFSETTO:+0200
END:DAYLIGHT
END:VTIMEZONE
END:VCALENDAR
