BEGIN:VCALENDAR
VERSION:2.0
PRODID:-//Plone.org//NONSGML plone.app.event//EN
X-WR-TIMEZONE:Europe/Berlin
BEGIN:VEVENT
SUMMARY:Kunstpause: Paul Baum\, Kanallandschaft\, 1895
DTSTART;TZID=Europe/Berlin:20250820T123000
DTEND;TZID=Europe/Berlin:20250820T130000
DTSTAMP:20260425T131024Z
UID:d05c9bcb2c774c20925c66f057f3732e@www.uni-marburg.de
ATTENDEE;CN="Susanne Ehlers";ROLE=REQ-PARTICIPANT:Susanne Ehlers
CREATED:20250404T115501Z
DESCRIPTION:https://www.uni-marburg.de/de/museum/aktuelles/termine/copy8_o
 f_kunstpause-theodor-rosenhauer-frau-mit-roter-jacke-am-runden-tisch-1960\
 n
LAST-MODIFIED:20250626T082350Z
LOCATION:Kunstmuseum Marburg\, Biegenstraße 11
URL:https://www.uni-marburg.de/de/museum/aktuelles/termine/copy8_of_kunstp
 ause-theodor-rosenhauer-frau-mit-roter-jacke-am-runden-tisch-1960
END:VEVENT
BEGIN:VTIMEZONE
TZID:Europe/Berlin
X-LIC-LOCATION:Europe/Berlin
BEGIN:DAYLIGHT
DTSTART:20250330T030000
TZNAME:CEST
TZOFFSETFROM:+0100
TZOFFSETTO:+0200
END:DAYLIGHT
END:VTIMEZONE
END:VCALENDAR
