BEGIN:VCALENDAR
VERSION:2.0
PRODID:-//Plone.org//NONSGML plone.app.event//EN
X-WR-TIMEZONE:Europe/Berlin
BEGIN:VEVENT
SUMMARY:Graphik-Gespräch: Faszination Rückseite
DTSTART;TZID=Europe/Berlin:20250718T150000
DTEND;TZID=Europe/Berlin:20250718T160000
DTSTAMP:20260421T223641Z
UID:5c42daa11abb4421a1e15f120c7772a4@www.uni-marburg.de
ATTENDEE;CN="Rebecca Partikel M. A.";ROLE=REQ-PARTICIPANT:Rebecca Partikel
  M. A.
CREATED:20250513T062235Z
DESCRIPTION:https://www.uni-marburg.de/de/museum/aktuelles/termine/copy_of
 _graphik-gespraech-unfertig-werkprozesse-in-der-graphischen-sammlung\n
LAST-MODIFIED:20250626T083454Z
LOCATION:Kunstmuseum Marburg\, Biegenstraße 11
URL:https://www.uni-marburg.de/de/museum/aktuelles/termine/copy_of_graphik
 -gespraech-unfertig-werkprozesse-in-der-graphischen-sammlung
END:VEVENT
BEGIN:VTIMEZONE
TZID:Europe/Berlin
X-LIC-LOCATION:Europe/Berlin
BEGIN:DAYLIGHT
DTSTART:20250330T030000
TZNAME:CEST
TZOFFSETFROM:+0100
TZOFFSETTO:+0200
END:DAYLIGHT
END:VTIMEZONE
END:VCALENDAR
