BEGIN:VCALENDAR
VERSION:2.0
PRODID:-//Plone.org//NONSGML plone.app.event//EN
X-WR-TIMEZONE:Europe/Berlin
BEGIN:VEVENT
SUMMARY:Workshop: Was ist Kunst? Leporellos
DTSTART;TZID=Europe/Berlin:20250824T130000
DTEND;TZID=Europe/Berlin:20250824T160000
DTSTAMP:20260422T025549Z
UID:caa14581519249aa97c306c1b5c266f0@www.uni-marburg.de
ATTENDEE;CN="Susanne Dilger (KunstWerkStatt Marburg)";ROLE=REQ-PARTICIPANT
 :Susanne Dilger (KunstWerkStatt Marburg)
CREATED:20250626T070217Z
DESCRIPTION:https://www.uni-marburg.de/de/museum/aktuelles/termine/copy_of
 _in-die-farben-des-sommers-tauchen\n
LAST-MODIFIED:20250626T073328Z
LOCATION:Kunstmuseum Marburg\, Biegenstraße 11
URL:https://www.uni-marburg.de/de/museum/aktuelles/termine/copy_of_in-die-
 farben-des-sommers-tauchen
END:VEVENT
BEGIN:VTIMEZONE
TZID:Europe/Berlin
X-LIC-LOCATION:Europe/Berlin
BEGIN:DAYLIGHT
DTSTART:20250330T030000
TZNAME:CEST
TZOFFSETFROM:+0100
TZOFFSETTO:+0200
END:DAYLIGHT
END:VTIMEZONE
END:VCALENDAR
