BEGIN:VCALENDAR
VERSION:2.0
PRODID:-//Plone.org//NONSGML plone.app.event//EN
X-WR-TIMEZONE:Europe/Berlin
BEGIN:VEVENT
SUMMARY:KreativeFreiräume
DTSTART;TZID=Europe/Berlin:20240620T180000
DTEND;TZID=Europe/Berlin:20240620T210000
DTSTAMP:20260424T074745Z
UID:08257813ee6b4438bac9da16cb6f46c1@www.uni-marburg.de
CREATED:20210930T113621Z
DESCRIPTION:https://www.uni-marburg.de/de/museum/aktuelles/termine/copy_of
 _kreative-freiraeume-4-1\n
LAST-MODIFIED:20240327T071850Z
LOCATION:Atelierraum\, Kunstmuseum Marburg
URL:https://www.uni-marburg.de/de/museum/aktuelles/termine/copy_of_kreativ
 e-freiraeume-4-1
END:VEVENT
BEGIN:VTIMEZONE
TZID:Europe/Berlin
X-LIC-LOCATION:Europe/Berlin
BEGIN:DAYLIGHT
DTSTART:20240331T030000
TZNAME:CEST
TZOFFSETFROM:+0100
TZOFFSETTO:+0200
END:DAYLIGHT
END:VTIMEZONE
END:VCALENDAR
