BEGIN:VCALENDAR
VERSION:2.0
PRODID:-//Plone.org//NONSGML plone.app.event//EN
X-WR-TIMEZONE:Europe/Berlin
BEGIN:VEVENT
SUMMARY:Themenführung: Tag des Offenen Denkmals
DTSTART;TZID=Europe/Berlin:20250914T111500
DTEND;TZID=Europe/Berlin:20250914T161500
DTSTAMP:20260424T194725Z
UID:2274c6d906724b448f3f2f1e3d7d5943@www.uni-marburg.de
ATTENDEE;CN="Ulrike Schönhagen";ROLE=REQ-PARTICIPANT:Ulrike Schönhagen
ATTENDEE;CN="Susanne Ehlers";ROLE=REQ-PARTICIPANT:Susanne Ehlers
CREATED:20250626T084411Z
DESCRIPTION:https://www.uni-marburg.de/de/museum/aktuelles/termine/copy_of
 _themenfuehrung-sonderausstellung-was-ist-kunst\n
LAST-MODIFIED:20250626T084910Z
LOCATION:Kunstmuseum Marburg\, Biegenstraße 11
URL:https://www.uni-marburg.de/de/museum/aktuelles/termine/copy_of_themenf
 uehrung-sonderausstellung-was-ist-kunst
END:VEVENT
BEGIN:VTIMEZONE
TZID:Europe/Berlin
X-LIC-LOCATION:Europe/Berlin
BEGIN:DAYLIGHT
DTSTART:20250330T030000
TZNAME:CEST
TZOFFSETFROM:+0100
TZOFFSETTO:+0200
END:DAYLIGHT
END:VTIMEZONE
END:VCALENDAR
