BEGIN:VCALENDAR
VERSION:2.0
PRODID:-//Plone.org//NONSGML plone.app.event//EN
X-WR-TIMEZONE:Europe/Berlin
BEGIN:VEVENT
SUMMARY:Werkstattzeit: Portraits in Mischtechnik
DTSTART;TZID=Europe/Berlin:20250518T140000
DTEND;TZID=Europe/Berlin:20250518T160000
DTSTAMP:20260424T063047Z
UID:914b97d1abf440a98aaa6795a5202fb0@www.uni-marburg.de
ATTENDEE;CN="Elizaveta Gischler";ROLE=REQ-PARTICIPANT:Elizaveta Gischler
CREATED:20250403T143820Z
DESCRIPTION:https://www.uni-marburg.de/de/museum/aktuelles/termine/copy_of
 _werkstattzeit-lieblingswerke-im-museum\n
LAST-MODIFIED:20250410T100106Z
LOCATION:Kunstmuseum Marburg\, Biegenstraße 11\, Atelierraum
URL:https://www.uni-marburg.de/de/museum/aktuelles/termine/copy_of_werksta
 ttzeit-lieblingswerke-im-museum
END:VEVENT
BEGIN:VTIMEZONE
TZID:Europe/Berlin
X-LIC-LOCATION:Europe/Berlin
BEGIN:DAYLIGHT
DTSTART:20250330T030000
TZNAME:CEST
TZOFFSETFROM:+0100
TZOFFSETTO:+0200
END:DAYLIGHT
END:VTIMEZONE
END:VCALENDAR
