BEGIN:VCALENDAR
VERSION:2.0
PRODID:-//Plone.org//NONSGML plone.app.event//EN
X-WR-TIMEZONE:Europe/Berlin
BEGIN:VEVENT
SUMMARY:Workshop: Nach Strich und Faden
DTSTART;TZID=Europe/Berlin:20250629T130000
DTEND;TZID=Europe/Berlin:20250629T160000
DTSTAMP:20260424T075234Z
UID:87a0e4a5eaed4dc7b3693f4eba06e1bd@www.uni-marburg.de
ATTENDEE;CN="Dagmar Stein-Cadenbach";ROLE=REQ-PARTICIPANT:Dagmar Stein-Cad
 enbach
CREATED:20250410T093620Z
DESCRIPTION:https://www.uni-marburg.de/de/museum/aktuelles/termine/copy_of
 _workshop-federleicht-pflanzenzeichnen-mit-der-feder\n
LAST-MODIFIED:20250410T095554Z
LOCATION:Kunstmuseum Marburg\, Biegenstraße 11
URL:https://www.uni-marburg.de/de/museum/aktuelles/termine/copy_of_worksho
 p-federleicht-pflanzenzeichnen-mit-der-feder
END:VEVENT
BEGIN:VTIMEZONE
TZID:Europe/Berlin
X-LIC-LOCATION:Europe/Berlin
BEGIN:DAYLIGHT
DTSTART:20250330T030000
TZNAME:CEST
TZOFFSETFROM:+0100
TZOFFSETTO:+0200
END:DAYLIGHT
END:VTIMEZONE
END:VCALENDAR
