BEGIN:VCALENDAR
VERSION:2.0
PRODID:-//Plone.org//NONSGML plone.app.event//EN
X-WR-TIMEZONE:Europe/Berlin
BEGIN:VEVENT
SUMMARY:Graphik-Gespräch: Meisterhaft kopiert
DTSTART;TZID=Europe/Berlin:20240712T150000
DTEND;TZID=Europe/Berlin:20240712T160000
DTSTAMP:20260423T055633Z
UID:d3ff380e691745cca1e8392c3ef628db@www.uni-marburg.de
CREATED:20240326T152957Z
DESCRIPTION:https://www.uni-marburg.de/de/museum/aktuelles/termine/graphik
 -gespraech-gelehrsamkeit-auf-papier\nRembrandt-Adaptionen aus der Sammlung
LAST-MODIFIED:20240626T083826Z
LOCATION:Kunstmuseum Marburg\, Graphischer Seminarraum
URL:https://www.uni-marburg.de/de/museum/aktuelles/termine/graphik-gesprae
 ch-gelehrsamkeit-auf-papier
END:VEVENT
BEGIN:VTIMEZONE
TZID:Europe/Berlin
X-LIC-LOCATION:Europe/Berlin
BEGIN:DAYLIGHT
DTSTART:20240331T030000
TZNAME:CEST
TZOFFSETFROM:+0100
TZOFFSETTO:+0200
END:DAYLIGHT
END:VTIMEZONE
END:VCALENDAR
