BEGIN:VCALENDAR
VERSION:2.0
PRODID:-//Plone.org//NONSGML plone.app.event//EN
X-WR-TIMEZONE:Europe/Berlin
BEGIN:VEVENT
SUMMARY:Graphik-Gespräch: Ihre Lieblingskunstwerke!
DTSTART;TZID=Europe/Berlin:20240920T150000
DTEND;TZID=Europe/Berlin:20240920T160000
DTSTAMP:20260422T000022Z
UID:b0101060e10344fdb745a78457f35aff@www.uni-marburg.de
CREATED:20240326T152957Z
DESCRIPTION:https://www.uni-marburg.de/de/museum/aktuelles/termine/graphik
 -gespraech-lieblingswerke\n
LAST-MODIFIED:20240626T093519Z
LOCATION:Kunstmuseum Marburg\, Graphischer Seminarraum
URL:https://www.uni-marburg.de/de/museum/aktuelles/termine/graphik-gesprae
 ch-lieblingswerke
END:VEVENT
BEGIN:VTIMEZONE
TZID:Europe/Berlin
X-LIC-LOCATION:Europe/Berlin
BEGIN:DAYLIGHT
DTSTART:20240331T030000
TZNAME:CEST
TZOFFSETFROM:+0100
TZOFFSETTO:+0200
END:DAYLIGHT
END:VTIMEZONE
END:VCALENDAR
