BEGIN:VCALENDAR
VERSION:2.0
PRODID:-//Plone.org//NONSGML plone.app.event//EN
X-WR-TIMEZONE:Europe/Berlin
BEGIN:VEVENT
SUMMARY:Graphik-Gespräch: Unfertig? Werkprozesse in der Graphischen Samml
 ung
DTSTART;TZID=Europe/Berlin:20250516T150000
DTEND;TZID=Europe/Berlin:20250516T160000
DTSTAMP:20260425T130548Z
UID:0afbd4739ec94558adeffed32237d8c2@www.uni-marburg.de
ATTENDEE;CN="Rebecca Partikel";ROLE=REQ-PARTICIPANT:Rebecca Partikel
CREATED:20250513T062235Z
DESCRIPTION:https://www.uni-marburg.de/de/museum/aktuelles/termine/graphik
 -gespraech-unfertig-werkprozesse-in-der-graphischen-sammlung\n
LAST-MODIFIED:20250513T062337Z
LOCATION:Kunstmuseum Marburg\, Biegenstraße 11
URL:https://www.uni-marburg.de/de/museum/aktuelles/termine/graphik-gesprae
 ch-unfertig-werkprozesse-in-der-graphischen-sammlung
END:VEVENT
BEGIN:VTIMEZONE
TZID:Europe/Berlin
X-LIC-LOCATION:Europe/Berlin
BEGIN:DAYLIGHT
DTSTART:20250330T030000
TZNAME:CEST
TZOFFSETFROM:+0100
TZOFFSETTO:+0200
END:DAYLIGHT
END:VTIMEZONE
END:VCALENDAR
