BEGIN:VCALENDAR
VERSION:2.0
PRODID:-//Plone.org//NONSGML plone.app.event//EN
X-WR-TIMEZONE:Europe/Berlin
BEGIN:VEVENT
SUMMARY:KreativeFreiräume
DTSTART;TZID=Europe/Berlin:20240606T180000
DTEND;TZID=Europe/Berlin:20240606T210000
DTSTAMP:20260424T174311Z
UID:a0a584cb776f43eabe47fc8bc102d8b9@www.uni-marburg.de
CREATED:20210930T113621Z
DESCRIPTION:https://www.uni-marburg.de/de/museum/aktuelles/termine/kreativ
 e-freiraeume-2\n
LAST-MODIFIED:20240327T071739Z
LOCATION:Atelierraum\, Kunstmuseum Marburg
URL:https://www.uni-marburg.de/de/museum/aktuelles/termine/kreative-freira
 eume-2
END:VEVENT
BEGIN:VTIMEZONE
TZID:Europe/Berlin
X-LIC-LOCATION:Europe/Berlin
BEGIN:DAYLIGHT
DTSTART:20240331T030000
TZNAME:CEST
TZOFFSETFROM:+0100
TZOFFSETTO:+0200
END:DAYLIGHT
END:VTIMEZONE
END:VCALENDAR
